BEGIN:VCALENDAR
VERSION:2.0
PRODID:-//Benburb Priory - ECPv6.5.1.6//NONSGML v1.0//EN
CALSCALE:GREGORIAN
METHOD:PUBLISH
X-ORIGINAL-URL:https://benburbpriory.com
X-WR-CALDESC:Events for Benburb Priory
REFRESH-INTERVAL;VALUE=DURATION:PT1H
X-Robots-Tag:noindex
X-PUBLISHED-TTL:PT1H
BEGIN:VTIMEZONE
TZID:Europe/London
BEGIN:DAYLIGHT
TZOFFSETFROM:+0000
TZOFFSETTO:+0100
TZNAME:BST
DTSTART:20250330T010000
END:DAYLIGHT
BEGIN:STANDARD
TZOFFSETFROM:+0100
TZOFFSETTO:+0000
TZNAME:GMT
DTSTART:20251026T010000
END:STANDARD
END:VTIMEZONE
BEGIN:VEVENT
DTSTART;VALUE=DATE:20251017
DTEND;VALUE=DATE:20251101
DTSTAMP:20260424T153705
CREATED:20250723T205716Z
LAST-MODIFIED:20250828T181420Z
UID:2865-1760659200-1761955199@benburbpriory.com
SUMMARY:Pumpkin Patch at Benburb Priory
DESCRIPTION:This October\, the historic grounds of Benburb Priory are getting a spooky seasonal makeover… and you’re invited!\n\nStep into a world of autumn magic and eerie adventure as the mysterious Mr. Bruce opens (well… almost) the gates of his private estate for a day of frightful fun\, creepy surprises\, and plenty of pumpkins. \nFrom haunted cellars to talking pumpkins\, secret courtyards to spooky discos — there’s something for every little ghost and grown-up ghoul to enjoy. \nGather your bravest family and friends\, throw on your best costumes\, and get ready for a Halloween experience unlike any other\, right here at the heart of Benburb. \nJust one thing… whatever you do\, don’t let Mr. Bruce catch you in his pumpkin patch! \n\n\n\n\n\n\n\n\n\n\n\n\n\n\n\n\n\n\n\n\nWhat to expect:\n\n\n● Pumpkin Patch: help our head pumpkin picker pick pumpkins at Mr Bruce’s private Manor House pumpkin patch (just don’t let Mr Bruce catch you);\n● Scary Cellar: find Mr Bruce’s scary underground cellar where he keeps his spiders\, skeletons and famous singing ghost;\n● Carving Courtyard: On the other side of the scary cellar you will find the secret\nCourtyard where Mr Bruce’s top pumpkin carvers show you how to decorate your pumpkin and you’ll meet some cheeky talking pumpkins.\n● Spooky Disco: After all that the adults will warm up with a delicious bowl of pumpkin soup while the kids can enjoy a boo…gie!\n\n\n\nBook your tickets now CLICK HERE\n\nView more events click here
URL:https://benburbpriory.com/event/pumpkin-patch-at-benburb-priory/2025-10-17/
LOCATION:Benburb Priory\, 10 Main Street\, Benburb\, Northern Ireland\, BT71 7JZ\, United Kingdom
ATTACH;FMTTYPE=image/jpeg:https://benburbpriory.com/site/wp-content/uploads/2025/07/Benburb-Priory-Pumpkin-Patch.jpg
END:VEVENT
END:VCALENDAR