BEGIN:VCALENDAR
VERSION:2.0
PRODID:-//Benburb Priory - ECPv6.5.1.6//NONSGML v1.0//EN
CALSCALE:GREGORIAN
METHOD:PUBLISH
X-ORIGINAL-URL:https://benburbpriory.com
X-WR-CALDESC:Events for Benburb Priory
REFRESH-INTERVAL;VALUE=DURATION:PT1H
X-Robots-Tag:noindex
X-PUBLISHED-TTL:PT1H
BEGIN:VTIMEZONE
TZID:Europe/London
BEGIN:DAYLIGHT
TZOFFSETFROM:+0000
TZOFFSETTO:+0100
TZNAME:BST
DTSTART:20250330T010000
END:DAYLIGHT
BEGIN:STANDARD
TZOFFSETFROM:+0100
TZOFFSETTO:+0000
TZNAME:GMT
DTSTART:20251026T010000
END:STANDARD
END:VTIMEZONE
BEGIN:VEVENT
DTSTART;TZID=Europe/London:20251220T140000
DTEND;TZID=Europe/London:20251220T180000
DTSTAMP:20260422T183815
CREATED:20251026T132032Z
LAST-MODIFIED:20251026T132534Z
UID:3418-1766239200-1766253600@benburbpriory.com
SUMMARY:Santa’s Enchanted Magical Tour - Santa Experience
DESCRIPTION:This December\, Benburb Priory is set to transform into a festive wonderland for Santa’s Enchanted Magical Tour\, a family-friendly Christmas experience that promises to delight visitors of all ages. \nSanta’s Enchanted Magical Tour Includes:\nGuided tour of Benburb Priory Manor House (approx. 1 hour) \nElf on the Shelf School in the Grand Library \nStorytelling with the Snow Queen \nMaking Reindeer Dust with Mrs Claus \nMulled wine and shortbread for adults \nA present from Santa \nOne family photo with Santa (additional photos available to purchase) \nOptional visit to the Crib in the Chapel \nWalk through the illuminated Priory grounds \nPrice: \n\n\nChild (over 2): £20.50 \n\n\nAdult: £15.50 \n\n\nChild (under 2): £10 \n\n\nBook your tickets now click here\n\nLooking for more Benburb events? Stay connected with us for upcoming activities and community gatherings. \nFollow Benburb Priory on Facebook and Instagram or join our WhatsApp Channel for regular updates
URL:https://benburbpriory.com/event/santas-enchanted-magical-tour-santa-experience/2025-12-20/
ATTACH;FMTTYPE=image/jpeg:https://benburbpriory.com/site/wp-content/uploads/2025/10/Copy-of-Christmas-Benburb-2.jpg
END:VEVENT
BEGIN:VEVENT
DTSTART;TZID=Europe/London:20251219T170000
DTEND;TZID=Europe/London:20251219T180000
DTSTAMP:20260422T183815
CREATED:20251026T132032Z
LAST-MODIFIED:20251026T132534Z
UID:3417-1766163600-1766167200@benburbpriory.com
SUMMARY:Santa’s Enchanted Magical Tour - Santa Experience
DESCRIPTION:This December\, Benburb Priory is set to transform into a festive wonderland for Santa’s Enchanted Magical Tour\, a family-friendly Christmas experience that promises to delight visitors of all ages. \nSanta’s Enchanted Magical Tour Includes:\nGuided tour of Benburb Priory Manor House (approx. 1 hour) \nElf on the Shelf School in the Grand Library \nStorytelling with the Snow Queen \nMaking Reindeer Dust with Mrs Claus \nMulled wine and shortbread for adults \nA present from Santa \nOne family photo with Santa (additional photos available to purchase) \nOptional visit to the Crib in the Chapel \nWalk through the illuminated Priory grounds \nPrice: \n\n\nChild (over 2): £20.50 \n\n\nAdult: £15.50 \n\n\nChild (under 2): £10 \n\n\nBook your tickets now click here\n\nLooking for more Benburb events? Stay connected with us for upcoming activities and community gatherings. \nFollow Benburb Priory on Facebook and Instagram or join our WhatsApp Channel for regular updates
URL:https://benburbpriory.com/event/santas-enchanted-magical-tour-santa-experience/2025-12-19/
ATTACH;FMTTYPE=image/jpeg:https://benburbpriory.com/site/wp-content/uploads/2025/10/Copy-of-Christmas-Benburb-2.jpg
END:VEVENT
BEGIN:VEVENT
DTSTART;TZID=Europe/London:20251214T140000
DTEND;TZID=Europe/London:20251214T180000
DTSTAMP:20260422T183815
CREATED:20251026T132032Z
LAST-MODIFIED:20251026T132032Z
UID:3429-1765720800-1765735200@benburbpriory.com
SUMMARY:Santa’s Enchanted Magical Tour - Santa Experience
DESCRIPTION:This December\, Benburb Priory is set to transform into a festive wonderland for Santa’s Enchanted Magical Tour\, a family-friendly Christmas experience that promises to delight visitors of all ages. \nSanta’s Enchanted Magical Tour Includes:\nGuided tour of Benburb Priory Manor House (approx. 1 hour) \nElf on the Shelf School in the Grand Library \nStorytelling with the Snow Queen \nMaking Reindeer Dust with Mrs Claus \nMulled wine and shortbread for adults \nA present from Santa \nOne family photo with Santa (additional photos available to purchase) \nOptional visit to the Crib in the Chapel \nWalk through the illuminated Priory grounds \nPrice: \n\n\nChild (over 2): £20.50 \n\n\nAdult: £15.50 \n\n\nChild (under 2): £10 \n\n\nBook your tickets now click here\n\nLooking for more Benburb events? Stay connected with us for upcoming activities and community gatherings. \nFollow Benburb Priory on Facebook and Instagram or join our WhatsApp Channel for regular updates
URL:https://benburbpriory.com/event/santas-enchanted-magical-tour-santa-experience/2025-12-14/
ATTACH;FMTTYPE=image/jpeg:https://benburbpriory.com/site/wp-content/uploads/2025/10/Copy-of-Christmas-Benburb-2.jpg
END:VEVENT
BEGIN:VEVENT
DTSTART;TZID=Europe/London:20251213T143000
DTEND;TZID=Europe/London:20251213T180000
DTSTAMP:20260422T183815
CREATED:20251026T132032Z
LAST-MODIFIED:20251026T132534Z
UID:3415-1765636200-1765648800@benburbpriory.com
SUMMARY:Santa’s Enchanted Magical Tour - Santa Experience
DESCRIPTION:This December\, Benburb Priory is set to transform into a festive wonderland for Santa’s Enchanted Magical Tour\, a family-friendly Christmas experience that promises to delight visitors of all ages. \nSanta’s Enchanted Magical Tour Includes:\nGuided tour of Benburb Priory Manor House (approx. 1 hour) \nElf on the Shelf School in the Grand Library \nStorytelling with the Snow Queen \nMaking Reindeer Dust with Mrs Claus \nMulled wine and shortbread for adults \nA present from Santa \nOne family photo with Santa (additional photos available to purchase) \nOptional visit to the Crib in the Chapel \nWalk through the illuminated Priory grounds \nPrice: \n\n\nChild (over 2): £20.50 \n\n\nAdult: £15.50 \n\n\nChild (under 2): £10 \n\n\nBook your tickets now click here\n\nLooking for more Benburb events? Stay connected with us for upcoming activities and community gatherings. \nFollow Benburb Priory on Facebook and Instagram or join our WhatsApp Channel for regular updates
URL:https://benburbpriory.com/event/santas-enchanted-magical-tour-santa-experience/2025-12-13/
ATTACH;FMTTYPE=image/jpeg:https://benburbpriory.com/site/wp-content/uploads/2025/10/Copy-of-Christmas-Benburb-2.jpg
END:VEVENT
BEGIN:VEVENT
DTSTART;TZID=Europe/London:20251212T170000
DTEND;TZID=Europe/London:20251212T180000
DTSTAMP:20260422T183815
CREATED:20251026T132032Z
LAST-MODIFIED:20251026T132533Z
UID:3414-1765558800-1765562400@benburbpriory.com
SUMMARY:Santa’s Enchanted Magical Tour - Santa Experience
DESCRIPTION:This December\, Benburb Priory is set to transform into a festive wonderland for Santa’s Enchanted Magical Tour\, a family-friendly Christmas experience that promises to delight visitors of all ages. \nSanta’s Enchanted Magical Tour Includes:\nGuided tour of Benburb Priory Manor House (approx. 1 hour) \nElf on the Shelf School in the Grand Library \nStorytelling with the Snow Queen \nMaking Reindeer Dust with Mrs Claus \nMulled wine and shortbread for adults \nA present from Santa \nOne family photo with Santa (additional photos available to purchase) \nOptional visit to the Crib in the Chapel \nWalk through the illuminated Priory grounds \nPrice: \n\n\nChild (over 2): £20.50 \n\n\nAdult: £15.50 \n\n\nChild (under 2): £10 \n\n\nBook your tickets now click here\n\nLooking for more Benburb events? Stay connected with us for upcoming activities and community gatherings. \nFollow Benburb Priory on Facebook and Instagram or join our WhatsApp Channel for regular updates
URL:https://benburbpriory.com/event/santas-enchanted-magical-tour-santa-experience/2025-12-12/
ATTACH;FMTTYPE=image/jpeg:https://benburbpriory.com/site/wp-content/uploads/2025/10/Copy-of-Christmas-Benburb-2.jpg
END:VEVENT
BEGIN:VEVENT
DTSTART;TZID=Europe/London:20251207T140000
DTEND;TZID=Europe/London:20251207T170000
DTSTAMP:20260422T183815
CREATED:20251026T132032Z
LAST-MODIFIED:20251026T132533Z
UID:3413-1765116000-1765126800@benburbpriory.com
SUMMARY:Santa’s Enchanted Magical Tour - Santa Experience
DESCRIPTION:This December\, Benburb Priory is set to transform into a festive wonderland for Santa’s Enchanted Magical Tour\, a family-friendly Christmas experience that promises to delight visitors of all ages. \nSanta’s Enchanted Magical Tour Includes:\nGuided tour of Benburb Priory Manor House (approx. 1 hour) \nElf on the Shelf School in the Grand Library \nStorytelling with the Snow Queen \nMaking Reindeer Dust with Mrs Claus \nMulled wine and shortbread for adults \nA present from Santa \nOne family photo with Santa (additional photos available to purchase) \nOptional visit to the Crib in the Chapel \nWalk through the illuminated Priory grounds \nPrice: \n\n\nChild (over 2): £20.50 \n\n\nAdult: £15.50 \n\n\nChild (under 2): £10 \n\n\nBook your tickets now click here\n\nLooking for more Benburb events? Stay connected with us for upcoming activities and community gatherings. \nFollow Benburb Priory on Facebook and Instagram or join our WhatsApp Channel for regular updates
URL:https://benburbpriory.com/event/santas-enchanted-magical-tour-santa-experience/2025-12-07/
ATTACH;FMTTYPE=image/jpeg:https://benburbpriory.com/site/wp-content/uploads/2025/10/Copy-of-Christmas-Benburb-2.jpg
END:VEVENT
BEGIN:VEVENT
DTSTART;TZID=Europe/London:20251206T140000
DTEND;TZID=Europe/London:20251206T170000
DTSTAMP:20260422T183815
CREATED:20251026T132032Z
LAST-MODIFIED:20251026T132533Z
UID:3421-1765029600-1765040400@benburbpriory.com
SUMMARY:Santa’s Enchanted Magical Tour - Santa Experience
DESCRIPTION:This December\, Benburb Priory is set to transform into a festive wonderland for Santa’s Enchanted Magical Tour\, a family-friendly Christmas experience that promises to delight visitors of all ages. \nSanta’s Enchanted Magical Tour Includes:\nGuided tour of Benburb Priory Manor House (approx. 1 hour) \nElf on the Shelf School in the Grand Library \nStorytelling with the Snow Queen \nMaking Reindeer Dust with Mrs Claus \nMulled wine and shortbread for adults \nA present from Santa \nOne family photo with Santa (additional photos available to purchase) \nOptional visit to the Crib in the Chapel \nWalk through the illuminated Priory grounds \nPrice: \n\n\nChild (over 2): £20.50 \n\n\nAdult: £15.50 \n\n\nChild (under 2): £10 \n\n\nBook your tickets now click here\n\nLooking for more Benburb events? Stay connected with us for upcoming activities and community gatherings. \nFollow Benburb Priory on Facebook and Instagram or join our WhatsApp Channel for regular updates
URL:https://benburbpriory.com/event/santas-enchanted-magical-tour-santa-experience/2025-12-06/
ATTACH;FMTTYPE=image/jpeg:https://benburbpriory.com/site/wp-content/uploads/2025/10/Copy-of-Christmas-Benburb-2.jpg
END:VEVENT
BEGIN:VEVENT
DTSTART;TZID=Europe/London:20251205T170000
DTEND;TZID=Europe/London:20251205T180000
DTSTAMP:20260422T183815
CREATED:20251026T132032Z
LAST-MODIFIED:20251026T132533Z
UID:3412-1764954000-1764957600@benburbpriory.com
SUMMARY:Santa’s Enchanted Magical Tour - Santa Experience
DESCRIPTION:This December\, Benburb Priory is set to transform into a festive wonderland for Santa’s Enchanted Magical Tour\, a family-friendly Christmas experience that promises to delight visitors of all ages. \nSanta’s Enchanted Magical Tour Includes:\nGuided tour of Benburb Priory Manor House (approx. 1 hour) \nElf on the Shelf School in the Grand Library \nStorytelling with the Snow Queen \nMaking Reindeer Dust with Mrs Claus \nMulled wine and shortbread for adults \nA present from Santa \nOne family photo with Santa (additional photos available to purchase) \nOptional visit to the Crib in the Chapel \nWalk through the illuminated Priory grounds \nPrice: \n\n\nChild (over 2): £20.50 \n\n\nAdult: £15.50 \n\n\nChild (under 2): £10 \n\n\nBook your tickets now click here\n\nLooking for more Benburb events? Stay connected with us for upcoming activities and community gatherings. \nFollow Benburb Priory on Facebook and Instagram or join our WhatsApp Channel for regular updates
URL:https://benburbpriory.com/event/santas-enchanted-magical-tour-santa-experience/2025-12-05/
ATTACH;FMTTYPE=image/jpeg:https://benburbpriory.com/site/wp-content/uploads/2025/10/Copy-of-Christmas-Benburb-2.jpg
END:VEVENT
END:VCALENDAR