BEGIN:VCALENDAR
VERSION:2.0
PRODID:-//Benburb Priory - ECPv6.5.1.6//NONSGML v1.0//EN
CALSCALE:GREGORIAN
METHOD:PUBLISH
X-ORIGINAL-URL:https://benburbpriory.com
X-WR-CALDESC:Events for Benburb Priory
REFRESH-INTERVAL;VALUE=DURATION:PT1H
X-Robots-Tag:noindex
X-PUBLISHED-TTL:PT1H
BEGIN:VTIMEZONE
TZID:Europe/London
BEGIN:DAYLIGHT
TZOFFSETFROM:+0000
TZOFFSETTO:+0100
TZNAME:BST
DTSTART:20250330T010000
END:DAYLIGHT
BEGIN:STANDARD
TZOFFSETFROM:+0100
TZOFFSETTO:+0000
TZNAME:GMT
DTSTART:20251026T010000
END:STANDARD
END:VTIMEZONE
BEGIN:VEVENT
DTSTART;TZID=Europe/London:20251221T133000
DTEND;TZID=Europe/London:20251221T150000
DTSTAMP:20260422T115953
CREATED:20251026T133924Z
LAST-MODIFIED:20251026T135746Z
UID:3439-1766323800-1766329200@benburbpriory.com
SUMMARY:Express Santa at Benburb Priory
DESCRIPTION:Express Santa – A Short but Sweet Visit\nFamilies short on time can book the Express Santa experience — a mini version of the main event that still includes a gift from Santa\, a photo opportunity\, and time to enjoy the beautiful Christmas lights around the Priory’s courtyard and gardens. \nExpress Santa Includes: \n\n\nA present from Santa \n\n\nOne family photo with Santa (additional photos available to purchase) \n\n\nOptional visit to the Crib in the Chapel \n\n\nAccess to the Priory’s illuminated grounds \n\n\nPrice: \n\n\nChild (over 2): £12.50 \n\n\nAdult: £8.50 \n\n\nChild (under 2): £10\nBook your tickets now – click here\n\n\n\nImportant Information & Small Print\nWheelchair Access: \n\n\nExpress Santa – All areas are accessible on the ground floor. \n\n\nSanta’s Enchanted Magical Tour – All activities are wheelchair accessible. Please note there are steps in the upstairs hallway; however\, wheelchair users may use the lift to access the upper floor and rejoin their group\, with assistance from one of our helpful Elves. When returning to the ground floor\, our team will again be on hand to assist.We kindly ask that you advise us in advance if wheelchair access is required so we can prepare for your visit. To ensure a comfortable experience\, we recommend booking an early time slot\, when the tour is less busy. \n\n\nParking:Parking is available in the main car park. Please plan to arrive at least 10 minutes before your tour\, as it may take time to park and make your way to reception. \nDates & Times:All times and dates are subject to change. Please check our website or Ticket Tailor page for the most up-to-date event schedule and availability. \nGroup Bookings:If you’re attending with a large family or group of friends\, we can accommodate private tours for up to 30 people. To arrange a group booking\, please email marketing@benburbpriory.com so we can allocate additional time and ensure your group enjoys the full magical experience. \n\nLooking for more Benburb events? Stay connected with us for upcoming activities and community gatherings. \nFollow Benburb Priory on Facebook and Instagram or join our WhatsApp Channel for regular updates
URL:https://benburbpriory.com/event/express-santa-at-benburb-priory/2025-12-21/
ATTACH;FMTTYPE=image/jpeg:https://benburbpriory.com/site/wp-content/uploads/2025/10/Copy-of-Christmas-Benburb-1.jpg
END:VEVENT
BEGIN:VEVENT
DTSTART;TZID=Europe/London:20251220T140000
DTEND;TZID=Europe/London:20251220T150000
DTSTAMP:20260422T115953
CREATED:20251026T133924Z
LAST-MODIFIED:20251026T135746Z
UID:3438-1766239200-1766242800@benburbpriory.com
SUMMARY:Express Santa at Benburb Priory
DESCRIPTION:Express Santa – A Short but Sweet Visit\nFamilies short on time can book the Express Santa experience — a mini version of the main event that still includes a gift from Santa\, a photo opportunity\, and time to enjoy the beautiful Christmas lights around the Priory’s courtyard and gardens. \nExpress Santa Includes: \n\n\nA present from Santa \n\n\nOne family photo with Santa (additional photos available to purchase) \n\n\nOptional visit to the Crib in the Chapel \n\n\nAccess to the Priory’s illuminated grounds \n\n\nPrice: \n\n\nChild (over 2): £12.50 \n\n\nAdult: £8.50 \n\n\nChild (under 2): £10\nBook your tickets now – click here\n\n\n\nImportant Information & Small Print\nWheelchair Access: \n\n\nExpress Santa – All areas are accessible on the ground floor. \n\n\nSanta’s Enchanted Magical Tour – All activities are wheelchair accessible. Please note there are steps in the upstairs hallway; however\, wheelchair users may use the lift to access the upper floor and rejoin their group\, with assistance from one of our helpful Elves. When returning to the ground floor\, our team will again be on hand to assist.We kindly ask that you advise us in advance if wheelchair access is required so we can prepare for your visit. To ensure a comfortable experience\, we recommend booking an early time slot\, when the tour is less busy. \n\n\nParking:Parking is available in the main car park. Please plan to arrive at least 10 minutes before your tour\, as it may take time to park and make your way to reception. \nDates & Times:All times and dates are subject to change. Please check our website or Ticket Tailor page for the most up-to-date event schedule and availability. \nGroup Bookings:If you’re attending with a large family or group of friends\, we can accommodate private tours for up to 30 people. To arrange a group booking\, please email marketing@benburbpriory.com so we can allocate additional time and ensure your group enjoys the full magical experience. \n\nLooking for more Benburb events? Stay connected with us for upcoming activities and community gatherings. \nFollow Benburb Priory on Facebook and Instagram or join our WhatsApp Channel for regular updates
URL:https://benburbpriory.com/event/express-santa-at-benburb-priory/2025-12-20/
ATTACH;FMTTYPE=image/jpeg:https://benburbpriory.com/site/wp-content/uploads/2025/10/Copy-of-Christmas-Benburb-1.jpg
END:VEVENT
BEGIN:VEVENT
DTSTART;TZID=Europe/London:20251219T170000
DTEND;TZID=Europe/London:20251219T180000
DTSTAMP:20260422T115953
CREATED:20251026T133924Z
LAST-MODIFIED:20251026T135746Z
UID:3437-1766163600-1766167200@benburbpriory.com
SUMMARY:Express Santa at Benburb Priory
DESCRIPTION:Express Santa – A Short but Sweet Visit\nFamilies short on time can book the Express Santa experience — a mini version of the main event that still includes a gift from Santa\, a photo opportunity\, and time to enjoy the beautiful Christmas lights around the Priory’s courtyard and gardens. \nExpress Santa Includes: \n\n\nA present from Santa \n\n\nOne family photo with Santa (additional photos available to purchase) \n\n\nOptional visit to the Crib in the Chapel \n\n\nAccess to the Priory’s illuminated grounds \n\n\nPrice: \n\n\nChild (over 2): £12.50 \n\n\nAdult: £8.50 \n\n\nChild (under 2): £10\nBook your tickets now – click here\n\n\n\nImportant Information & Small Print\nWheelchair Access: \n\n\nExpress Santa – All areas are accessible on the ground floor. \n\n\nSanta’s Enchanted Magical Tour – All activities are wheelchair accessible. Please note there are steps in the upstairs hallway; however\, wheelchair users may use the lift to access the upper floor and rejoin their group\, with assistance from one of our helpful Elves. When returning to the ground floor\, our team will again be on hand to assist.We kindly ask that you advise us in advance if wheelchair access is required so we can prepare for your visit. To ensure a comfortable experience\, we recommend booking an early time slot\, when the tour is less busy. \n\n\nParking:Parking is available in the main car park. Please plan to arrive at least 10 minutes before your tour\, as it may take time to park and make your way to reception. \nDates & Times:All times and dates are subject to change. Please check our website or Ticket Tailor page for the most up-to-date event schedule and availability. \nGroup Bookings:If you’re attending with a large family or group of friends\, we can accommodate private tours for up to 30 people. To arrange a group booking\, please email marketing@benburbpriory.com so we can allocate additional time and ensure your group enjoys the full magical experience. \n\nLooking for more Benburb events? Stay connected with us for upcoming activities and community gatherings. \nFollow Benburb Priory on Facebook and Instagram or join our WhatsApp Channel for regular updates
URL:https://benburbpriory.com/event/express-santa-at-benburb-priory/2025-12-19/
ATTACH;FMTTYPE=image/jpeg:https://benburbpriory.com/site/wp-content/uploads/2025/10/Copy-of-Christmas-Benburb-1.jpg
END:VEVENT
BEGIN:VEVENT
DTSTART;TZID=Europe/London:20251214T140000
DTEND;TZID=Europe/London:20251214T150000
DTSTAMP:20260422T115953
CREATED:20251026T133924Z
LAST-MODIFIED:20251026T135746Z
UID:3436-1765720800-1765724400@benburbpriory.com
SUMMARY:Express Santa at Benburb Priory
DESCRIPTION:Express Santa – A Short but Sweet Visit\nFamilies short on time can book the Express Santa experience — a mini version of the main event that still includes a gift from Santa\, a photo opportunity\, and time to enjoy the beautiful Christmas lights around the Priory’s courtyard and gardens. \nExpress Santa Includes: \n\n\nA present from Santa \n\n\nOne family photo with Santa (additional photos available to purchase) \n\n\nOptional visit to the Crib in the Chapel \n\n\nAccess to the Priory’s illuminated grounds \n\n\nPrice: \n\n\nChild (over 2): £12.50 \n\n\nAdult: £8.50 \n\n\nChild (under 2): £10\nBook your tickets now – click here\n\n\n\nImportant Information & Small Print\nWheelchair Access: \n\n\nExpress Santa – All areas are accessible on the ground floor. \n\n\nSanta’s Enchanted Magical Tour – All activities are wheelchair accessible. Please note there are steps in the upstairs hallway; however\, wheelchair users may use the lift to access the upper floor and rejoin their group\, with assistance from one of our helpful Elves. When returning to the ground floor\, our team will again be on hand to assist.We kindly ask that you advise us in advance if wheelchair access is required so we can prepare for your visit. To ensure a comfortable experience\, we recommend booking an early time slot\, when the tour is less busy. \n\n\nParking:Parking is available in the main car park. Please plan to arrive at least 10 minutes before your tour\, as it may take time to park and make your way to reception. \nDates & Times:All times and dates are subject to change. Please check our website or Ticket Tailor page for the most up-to-date event schedule and availability. \nGroup Bookings:If you’re attending with a large family or group of friends\, we can accommodate private tours for up to 30 people. To arrange a group booking\, please email marketing@benburbpriory.com so we can allocate additional time and ensure your group enjoys the full magical experience. \n\nLooking for more Benburb events? Stay connected with us for upcoming activities and community gatherings. \nFollow Benburb Priory on Facebook and Instagram or join our WhatsApp Channel for regular updates
URL:https://benburbpriory.com/event/express-santa-at-benburb-priory/2025-12-14/
ATTACH;FMTTYPE=image/jpeg:https://benburbpriory.com/site/wp-content/uploads/2025/10/Copy-of-Christmas-Benburb-1.jpg
END:VEVENT
BEGIN:VEVENT
DTSTART;TZID=Europe/London:20251213T143000
DTEND;TZID=Europe/London:20251213T153000
DTSTAMP:20260422T115953
CREATED:20251026T133924Z
LAST-MODIFIED:20251026T133924Z
UID:3441-1765636200-1765639800@benburbpriory.com
SUMMARY:Express Santa at Benburb Priory
DESCRIPTION:Express Santa – A Short but Sweet Visit\nFamilies short on time can book the Express Santa experience — a mini version of the main event that still includes a gift from Santa\, a photo opportunity\, and time to enjoy the beautiful Christmas lights around the Priory’s courtyard and gardens. \nExpress Santa Includes: \n\n\nA present from Santa \n\n\nOne family photo with Santa (additional photos available to purchase) \n\n\nOptional visit to the Crib in the Chapel \n\n\nAccess to the Priory’s illuminated grounds \n\n\nPrice: \n\n\nChild (over 2): £12.50 \n\n\nAdult: £8.50 \n\n\nChild (under 2): £10\nBook your tickets now – click here\n\n\n\nImportant Information & Small Print\nWheelchair Access: \n\n\nExpress Santa – All areas are accessible on the ground floor. \n\n\nSanta’s Enchanted Magical Tour – All activities are wheelchair accessible. Please note there are steps in the upstairs hallway; however\, wheelchair users may use the lift to access the upper floor and rejoin their group\, with assistance from one of our helpful Elves. When returning to the ground floor\, our team will again be on hand to assist.We kindly ask that you advise us in advance if wheelchair access is required so we can prepare for your visit. To ensure a comfortable experience\, we recommend booking an early time slot\, when the tour is less busy. \n\n\nParking:Parking is available in the main car park. Please plan to arrive at least 10 minutes before your tour\, as it may take time to park and make your way to reception. \nDates & Times:All times and dates are subject to change. Please check our website or Ticket Tailor page for the most up-to-date event schedule and availability. \nGroup Bookings:If you’re attending with a large family or group of friends\, we can accommodate private tours for up to 30 people. To arrange a group booking\, please email marketing@benburbpriory.com so we can allocate additional time and ensure your group enjoys the full magical experience. \n\nLooking for more Benburb events? Stay connected with us for upcoming activities and community gatherings. \nFollow Benburb Priory on Facebook and Instagram or join our WhatsApp Channel for regular updates
URL:https://benburbpriory.com/event/express-santa-at-benburb-priory/2025-12-13/
ATTACH;FMTTYPE=image/jpeg:https://benburbpriory.com/site/wp-content/uploads/2025/10/Copy-of-Christmas-Benburb-1.jpg
END:VEVENT
BEGIN:VEVENT
DTSTART;TZID=Europe/London:20251212T170000
DTEND;TZID=Europe/London:20251212T180000
DTSTAMP:20260422T115953
CREATED:20251026T133924Z
LAST-MODIFIED:20251026T135746Z
UID:3434-1765558800-1765562400@benburbpriory.com
SUMMARY:Express Santa at Benburb Priory
DESCRIPTION:Express Santa – A Short but Sweet Visit\nFamilies short on time can book the Express Santa experience — a mini version of the main event that still includes a gift from Santa\, a photo opportunity\, and time to enjoy the beautiful Christmas lights around the Priory’s courtyard and gardens. \nExpress Santa Includes: \n\n\nA present from Santa \n\n\nOne family photo with Santa (additional photos available to purchase) \n\n\nOptional visit to the Crib in the Chapel \n\n\nAccess to the Priory’s illuminated grounds \n\n\nPrice: \n\n\nChild (over 2): £12.50 \n\n\nAdult: £8.50 \n\n\nChild (under 2): £10\nBook your tickets now – click here\n\n\n\nImportant Information & Small Print\nWheelchair Access: \n\n\nExpress Santa – All areas are accessible on the ground floor. \n\n\nSanta’s Enchanted Magical Tour – All activities are wheelchair accessible. Please note there are steps in the upstairs hallway; however\, wheelchair users may use the lift to access the upper floor and rejoin their group\, with assistance from one of our helpful Elves. When returning to the ground floor\, our team will again be on hand to assist.We kindly ask that you advise us in advance if wheelchair access is required so we can prepare for your visit. To ensure a comfortable experience\, we recommend booking an early time slot\, when the tour is less busy. \n\n\nParking:Parking is available in the main car park. Please plan to arrive at least 10 minutes before your tour\, as it may take time to park and make your way to reception. \nDates & Times:All times and dates are subject to change. Please check our website or Ticket Tailor page for the most up-to-date event schedule and availability. \nGroup Bookings:If you’re attending with a large family or group of friends\, we can accommodate private tours for up to 30 people. To arrange a group booking\, please email marketing@benburbpriory.com so we can allocate additional time and ensure your group enjoys the full magical experience. \n\nLooking for more Benburb events? Stay connected with us for upcoming activities and community gatherings. \nFollow Benburb Priory on Facebook and Instagram or join our WhatsApp Channel for regular updates
URL:https://benburbpriory.com/event/express-santa-at-benburb-priory/2025-12-12/
ATTACH;FMTTYPE=image/jpeg:https://benburbpriory.com/site/wp-content/uploads/2025/10/Copy-of-Christmas-Benburb-1.jpg
END:VEVENT
BEGIN:VEVENT
DTSTART;TZID=Europe/London:20251207T140000
DTEND;TZID=Europe/London:20251207T150000
DTSTAMP:20260422T115953
CREATED:20251026T133924Z
LAST-MODIFIED:20251026T135746Z
UID:3433-1765116000-1765119600@benburbpriory.com
SUMMARY:Express Santa at Benburb Priory
DESCRIPTION:Express Santa – A Short but Sweet Visit\nFamilies short on time can book the Express Santa experience — a mini version of the main event that still includes a gift from Santa\, a photo opportunity\, and time to enjoy the beautiful Christmas lights around the Priory’s courtyard and gardens. \nExpress Santa Includes: \n\n\nA present from Santa \n\n\nOne family photo with Santa (additional photos available to purchase) \n\n\nOptional visit to the Crib in the Chapel \n\n\nAccess to the Priory’s illuminated grounds \n\n\nPrice: \n\n\nChild (over 2): £12.50 \n\n\nAdult: £8.50 \n\n\nChild (under 2): £10\nBook your tickets now – click here\n\n\n\nImportant Information & Small Print\nWheelchair Access: \n\n\nExpress Santa – All areas are accessible on the ground floor. \n\n\nSanta’s Enchanted Magical Tour – All activities are wheelchair accessible. Please note there are steps in the upstairs hallway; however\, wheelchair users may use the lift to access the upper floor and rejoin their group\, with assistance from one of our helpful Elves. When returning to the ground floor\, our team will again be on hand to assist.We kindly ask that you advise us in advance if wheelchair access is required so we can prepare for your visit. To ensure a comfortable experience\, we recommend booking an early time slot\, when the tour is less busy. \n\n\nParking:Parking is available in the main car park. Please plan to arrive at least 10 minutes before your tour\, as it may take time to park and make your way to reception. \nDates & Times:All times and dates are subject to change. Please check our website or Ticket Tailor page for the most up-to-date event schedule and availability. \nGroup Bookings:If you’re attending with a large family or group of friends\, we can accommodate private tours for up to 30 people. To arrange a group booking\, please email marketing@benburbpriory.com so we can allocate additional time and ensure your group enjoys the full magical experience. \n\nLooking for more Benburb events? Stay connected with us for upcoming activities and community gatherings. \nFollow Benburb Priory on Facebook and Instagram or join our WhatsApp Channel for regular updates
URL:https://benburbpriory.com/event/express-santa-at-benburb-priory/2025-12-07/
ATTACH;FMTTYPE=image/jpeg:https://benburbpriory.com/site/wp-content/uploads/2025/10/Copy-of-Christmas-Benburb-1.jpg
END:VEVENT
BEGIN:VEVENT
DTSTART;TZID=Europe/London:20251206T140000
DTEND;TZID=Europe/London:20251206T150000
DTSTAMP:20260422T115953
CREATED:20251026T133924Z
LAST-MODIFIED:20251026T135745Z
UID:3432-1765029600-1765033200@benburbpriory.com
SUMMARY:Express Santa at Benburb Priory
DESCRIPTION:Express Santa – A Short but Sweet Visit\nFamilies short on time can book the Express Santa experience — a mini version of the main event that still includes a gift from Santa\, a photo opportunity\, and time to enjoy the beautiful Christmas lights around the Priory’s courtyard and gardens. \nExpress Santa Includes: \n\n\nA present from Santa \n\n\nOne family photo with Santa (additional photos available to purchase) \n\n\nOptional visit to the Crib in the Chapel \n\n\nAccess to the Priory’s illuminated grounds \n\n\nPrice: \n\n\nChild (over 2): £12.50 \n\n\nAdult: £8.50 \n\n\nChild (under 2): £10\nBook your tickets now – click here\n\n\n\nImportant Information & Small Print\nWheelchair Access: \n\n\nExpress Santa – All areas are accessible on the ground floor. \n\n\nSanta’s Enchanted Magical Tour – All activities are wheelchair accessible. Please note there are steps in the upstairs hallway; however\, wheelchair users may use the lift to access the upper floor and rejoin their group\, with assistance from one of our helpful Elves. When returning to the ground floor\, our team will again be on hand to assist.We kindly ask that you advise us in advance if wheelchair access is required so we can prepare for your visit. To ensure a comfortable experience\, we recommend booking an early time slot\, when the tour is less busy. \n\n\nParking:Parking is available in the main car park. Please plan to arrive at least 10 minutes before your tour\, as it may take time to park and make your way to reception. \nDates & Times:All times and dates are subject to change. Please check our website or Ticket Tailor page for the most up-to-date event schedule and availability. \nGroup Bookings:If you’re attending with a large family or group of friends\, we can accommodate private tours for up to 30 people. To arrange a group booking\, please email marketing@benburbpriory.com so we can allocate additional time and ensure your group enjoys the full magical experience. \n\nLooking for more Benburb events? Stay connected with us for upcoming activities and community gatherings. \nFollow Benburb Priory on Facebook and Instagram or join our WhatsApp Channel for regular updates
URL:https://benburbpriory.com/event/express-santa-at-benburb-priory/2025-12-06/
ATTACH;FMTTYPE=image/jpeg:https://benburbpriory.com/site/wp-content/uploads/2025/10/Copy-of-Christmas-Benburb-1.jpg
END:VEVENT
BEGIN:VEVENT
DTSTART;TZID=Europe/London:20251205T170000
DTEND;TZID=Europe/London:20251205T180000
DTSTAMP:20260422T115953
CREATED:20251026T133924Z
LAST-MODIFIED:20251026T135745Z
UID:3431-1764954000-1764957600@benburbpriory.com
SUMMARY:Express Santa at Benburb Priory
DESCRIPTION:Express Santa – A Short but Sweet Visit\nFamilies short on time can book the Express Santa experience — a mini version of the main event that still includes a gift from Santa\, a photo opportunity\, and time to enjoy the beautiful Christmas lights around the Priory’s courtyard and gardens. \nExpress Santa Includes: \n\n\nA present from Santa \n\n\nOne family photo with Santa (additional photos available to purchase) \n\n\nOptional visit to the Crib in the Chapel \n\n\nAccess to the Priory’s illuminated grounds \n\n\nPrice: \n\n\nChild (over 2): £12.50 \n\n\nAdult: £8.50 \n\n\nChild (under 2): £10\nBook your tickets now – click here\n\n\n\nImportant Information & Small Print\nWheelchair Access: \n\n\nExpress Santa – All areas are accessible on the ground floor. \n\n\nSanta’s Enchanted Magical Tour – All activities are wheelchair accessible. Please note there are steps in the upstairs hallway; however\, wheelchair users may use the lift to access the upper floor and rejoin their group\, with assistance from one of our helpful Elves. When returning to the ground floor\, our team will again be on hand to assist.We kindly ask that you advise us in advance if wheelchair access is required so we can prepare for your visit. To ensure a comfortable experience\, we recommend booking an early time slot\, when the tour is less busy. \n\n\nParking:Parking is available in the main car park. Please plan to arrive at least 10 minutes before your tour\, as it may take time to park and make your way to reception. \nDates & Times:All times and dates are subject to change. Please check our website or Ticket Tailor page for the most up-to-date event schedule and availability. \nGroup Bookings:If you’re attending with a large family or group of friends\, we can accommodate private tours for up to 30 people. To arrange a group booking\, please email marketing@benburbpriory.com so we can allocate additional time and ensure your group enjoys the full magical experience. \n\nLooking for more Benburb events? Stay connected with us for upcoming activities and community gatherings. \nFollow Benburb Priory on Facebook and Instagram or join our WhatsApp Channel for regular updates
URL:https://benburbpriory.com/event/express-santa-at-benburb-priory/2025-12-05/
ATTACH;FMTTYPE=image/jpeg:https://benburbpriory.com/site/wp-content/uploads/2025/10/Copy-of-Christmas-Benburb-1.jpg
END:VEVENT
END:VCALENDAR